BEGIN:VCALENDAR
VERSION:2.0
PRODID:-//wp-events-plugin.com//7.2.3.1//EN
BEGIN:VEVENT
UID:18@wc4dc.org
DTSTART;TZID=America/Chicago:20260810T190000
DTEND;TZID=America/Chicago:20260810T200000
DTSTAMP:20250421T183858Z
URL:https://wc4dc.org/events/club-meeting-2026-08-10/
SUMMARY:Club Meeting
DESCRIPTION:
CATEGORIES:Club Meeting
LOCATION:EOC\, 284 Cowan Road\, Dickson\, TN\, 37055\, United States
X-APPLE-STRUCTURED-LOCATION;VALUE=URI;X-ADDRESS=284 Cowan Road\, Dickson\, 
 TN\, 37055\, United States;X-APPLE-RADIUS=100;X-TITLE=EOC:geo:0,0
END:VEVENT
BEGIN:VTIMEZONE
TZID:America/Chicago
X-LIC-LOCATION:America/Chicago
BEGIN:DAYLIGHT
DTSTART:20260308T030000
TZOFFSETFROM:-0600
TZOFFSETTO:-0500
TZNAME:CDT
END:DAYLIGHT
END:VTIMEZONE
END:VCALENDAR