BEGIN:VCALENDAR
VERSION:2.0
PRODID:-//wp-events-plugin.com//7.2.3.1//EN
BEGIN:VEVENT
UID:610@wc4dc.org
DTSTART;TZID=America/Chicago:20270417T080000
DTEND;TZID=America/Chicago:20270417T090000
DTSTAMP:20250421T184515Z
URL:https://wc4dc.org/events/club-breakfast-2027-04-17/
SUMMARY:Club Breakfast
DESCRIPTION:
CATEGORIES:Food
LOCATION:Jeanine's\, 1200 Hwy 70E\, Dickson\, TN\, 37055\, United States
X-APPLE-STRUCTURED-LOCATION;VALUE=URI;X-ADDRESS=1200 Hwy 70E\, Dickson\, TN
 \, 37055\, United States;X-APPLE-RADIUS=100;X-TITLE=Jeanine's:geo:0,0
END:VEVENT
BEGIN:VTIMEZONE
TZID:America/Chicago
X-LIC-LOCATION:America/Chicago
BEGIN:DAYLIGHT
DTSTART:20270314T030000
TZOFFSETFROM:-0600
TZOFFSETTO:-0500
TZNAME:CDT
END:DAYLIGHT
END:VTIMEZONE
END:VCALENDAR