BEGIN:VCALENDAR
VERSION:2.0
PRODID:-//wp-events-plugin.com//7.2.3.1//EN
BEGIN:VEVENT
UID:393@wc4dc.org
DTSTART;TZID=America/Chicago:20260813T190000
DTEND;TZID=America/Chicago:20260813T193000
DTSTAMP:20260317T012933Z
URL:https://wc4dc.org/events/ares-net-2026-08-13/
SUMMARY:Ares Net
DESCRIPTION:
ATTACH;FMTTYPE=image/jpeg:https://wc4dc.org/wp-content/uploads/2025/04/TNA
 RES-logo-1024x274-1.png
CATEGORIES:Ares Net
END:VEVENT
BEGIN:VTIMEZONE
TZID:America/Chicago
X-LIC-LOCATION:America/Chicago
BEGIN:DAYLIGHT
DTSTART:20260308T030000
TZOFFSETFROM:-0600
TZOFFSETTO:-0500
TZNAME:CDT
END:DAYLIGHT
END:VTIMEZONE
END:VCALENDAR