BEGIN:VCALENDAR
VERSION:2.0
PRODID:-//wp-events-plugin.com//7.2.3.1//EN
BEGIN:VEVENT
UID:126@wc4dc.org
DTSTART;TZID=America/Chicago:20260707T190000
DTEND;TZID=America/Chicago:20260707T193000
DTSTAMP:20250421T185203Z
URL:https://wc4dc.org/events/2-meter-net-2026-07-07/
SUMMARY:2 Meter Net
DESCRIPTION:147.375\, + 0.6 offset\, PL tone 146.2
ATTACH;FMTTYPE=image/jpeg:https://wc4dc.org/wp-content/uploads/2025/04/cro
 pped-3d77e85e190f-1.webp
CATEGORIES:2 Meter Net
END:VEVENT
BEGIN:VTIMEZONE
TZID:America/Chicago
X-LIC-LOCATION:America/Chicago
BEGIN:DAYLIGHT
DTSTART:20260308T030000
TZOFFSETFROM:-0600
TZOFFSETTO:-0500
TZNAME:CDT
END:DAYLIGHT
END:VTIMEZONE
END:VCALENDAR